BEGIN:VCALENDAR
VERSION:2.0
PRODID:-//CiviCRM//NONSGML CiviEvent iCal//EN
X-WR-TIMEZONE:UTC
METHOD:PUBLISH
BEGIN:VTIMEZONE
TZID:UTC
BEGIN:STANDARD
TZOFFSETFROM:+0000
TZOFFSETTO:+0000
TZNAME:UTC
DTSTART:20260610T093000
END:STANDARD
END:VTIMEZONE
BEGIN:VEVENT
UID:CiviCRM_EventID_186_322b0367e838ae064af10e5b4d653788@portal.nova-wd.org.uk
SUMMARY:Connecting Wakefield: Netwalking
X-ALT-DESC;FMTTYPE=text/html:<!DOCTYPE HTML PUBLIC
  "-//W3C//DTD HTML 3.2//EN"><html><body><p> </p>\n
  \n <p>Netwalking was a breath of fresh air (in bo
 th ways) last year\, so we're excited to be doing 
 it again in June for Connecting Wakefield. Get out
  for a refreshing walk with colleagues from other 
 VCSE organisations\, big and small\, and make some
  new connections. </p>\n \n <p>Free and open to an
 yone from a community group\, charity\, not-for-pr
 ofit\, voluntary organisation or social enterprise
  in Wakefield District.</p>\n \n <h3><b>What to ex
 pect</b></h3>\n \n <p>The plan is to walk around N
 ewmillerdam\, giving you plenty of time to chat an
 d meet new people in the group. You might like to 
 work through an idea or discuss a problem - walkin
 g can really help with that.</p>\n \n <p>The walk 
 will be led by the wonderful Rachel (Lead Communit
 y Mental Health Builder and part of our Adviser Te
 am at Nova) who can tell you a bit about Move More
 \, the big local project about getting people acti
 ve\, which should have an update on by June.</p>\n
  \n <p>The walk will start at 9.30am from Newmille
 rdam main car park and lasts for around 1 hour. It
 's a circular route around the lake. After this\, 
 we’ll head to Lakeside Creative Arts Centre for re
 freshments and more time to network. We'll be usin
 g the room upstairs.</p>\n \n <h3><b>What you’ll n
 eed</b></h3>\n \n <ul>\n 	<li>Clothing appropriate
  for the British weather</li>\n 	<li>Water</li>\n 
 	<li>Sturdy / comfortable footwear</li>\n </ul>\n 
 \n <h3><b>More information</b></h3>\n \n <ul>\n 	<
 li>Connecting Wakefield is a friendly space and at
 tendees vary\, so newcomers are very welcome. The 
 aim of the network is to aid communication and col
 laboration across the VCSE sector\, so we can bett
 er serve each other and our communities.</li>\n 	<
 li>There is a pay and display car park\, informati
 on and rates can be found on <a href="https://www.
 wakefield.gov.uk/parks-countryside-and-outdoor-spa
 ces/parks/newmillerdam-country-park/">the Council'
 s website</a>. You may want to car share with coll
 eagues. </li>\n </ul>\n \n <p>Please contact the N
 ova Team at info@nova-wd.org.uk or 01924 367418 if
  there are adjustments we can make to the walk or 
 session to make it accessible to you\, or you have
  any questions.</p>\n \n <p>You do not need to log
 in to register for this session\, please click "re
 gister now" to continue.</p></body></html>
DESCRIPTION: \n \n \n \n Netwalking was a breath of fresh air 
 (in both ways) last year\, so we're excited to be 
 doing it again in June for Connecting Wakefield. G
 et out for a refreshing walk with colleagues from 
 other VCSE organisations\, big and small\, and mak
 e some new connections. \n \n \n \n Free and open 
 to anyone from a community group\, charity\, not-f
 or-profit\, voluntary organisation or social enter
 prise in Wakefield District.\n \n \n \n What to ex
 pect\n \n \n The plan is to walk around Newmillerd
 am\, giving you plenty of time to chat and meet ne
 w people in the group. You might like to work thro
 ugh an idea or discuss a problem - walking can rea
 lly help with that.\n \n \n \n The walk will be le
 d by the wonderful Rachel (Lead Community Mental H
 ealth Builder and part of our Adviser Team at Nova
 ) who can tell you a bit about Move More\, the big
  local project about getting people active\, which
  should have an update on by June.\n \n \n \n The 
 walk will start at 9.30am from Newmillerdam main c
 ar park and lasts for around 1 hour. It's a circul
 ar route around the lake. After this\, we’ll head 
 to Lakeside Creative Arts Centre for refreshments 
 and more time to network. We'll be using the room 
 upstairs.\n \n \n \n What you’ll need\n \n \n \n 	
 Clothing appropriate for the British weather\n 	Wa
 ter\n 	Sturdy / comfortable footwear\n \n \n More 
 information\n \n \n \n 	Connecting Wakefield is a 
 friendly space and attendees vary\, so newcomers a
 re very welcome. The aim of the network is to aid 
 communication and collaboration across the VCSE se
 ctor\, so we can better serve each other and our c
 ommunities.\n 	There is a pay and display car park
 \, information and rates can be found on the Counc
 il's website (https://www.wakefield.gov.uk/parks-c
 ountryside-and-outdoor-spaces/parks/newmillerdam-c
 ountry-park/). You may want to car share with coll
 eagues. \n \n \n Please contact the Nova Team at i
 nfo@nova-wd.org.uk or 01924 367418 if there are ad
 justments we can make to the walk or session to ma
 ke it accessible to you\, or you have any question
 s.\n \n \n \n You do not need to login to register
  for this session\, please click "register now" to
  continue.\n \n 
CATEGORIES:Meeting
CALSCALE:GREGORIAN
DTSTAMP;TZID=UTC:20260610T093000
DTSTART;TZID=UTC:20260610T093000
DTEND;TZID=UTC:20260610T113000
LOCATION:Newmillerdam Country Park\n Wakefield\, WF2 6PZ\n 
URL:https://portal.nova-wd.org.uk/civicrm/event/info?reset=1&id=186
END:VEVENT
END:VCALENDAR
